BEGIN:VCALENDAR
VERSION:2.0
PRODID:-//Lodge Epping No 390 - ECPv5.0.2.1//NONSGML v1.0//EN
CALSCALE:GREGORIAN
METHOD:PUBLISH
X-WR-CALNAME:Lodge Epping No 390
X-ORIGINAL-URL:https://masoniclodge.org.au
X-WR-CALDESC:Events for Lodge Epping No 390
BEGIN:VTIMEZONE
TZID:Australia/Sydney
BEGIN:STANDARD
TZOFFSETFROM:+1100
TZOFFSETTO:+1000
TZNAME:AEST
DTSTART:20190406T160000
END:STANDARD
BEGIN:DAYLIGHT
TZOFFSETFROM:+1000
TZOFFSETTO:+1100
TZNAME:AEDT
DTSTART:20191005T160000
END:DAYLIGHT
END:VTIMEZONE
BEGIN:VEVENT
DTSTART;TZID=Australia/Sydney:20190822T113000
DTEND;TZID=Australia/Sydney:20190822T140000
DTSTAMP:20200228T081449
CREATED:20190826T003605Z
LAST-MODIFIED:20190826T004723Z
UID:428-1566473400-1566482400@masoniclodge.org.au
SUMMARY:Annual Widows Lunch
DESCRIPTION:
URL:https://masoniclodge.org.au/event/annual-widows-lunch/
LOCATION:Dooley’s Waterview Club\, Silverwater\, Cnr Silverwater Rd & Clyde St\, Silverwater\, NSW\, 2128\, Australia
CATEGORIES:Monthly Members, Families and Friends lunch
ORGANIZER;CN="Secretary":MAILTO:lodge390@bigpond.net.au
END:VEVENT
END:VCALENDAR