BEGIN:VCALENDAR
VERSION:2.0
PRODID:-//Lodge Epping No 390 - ECPv5.0.2.1//NONSGML v1.0//EN
CALSCALE:GREGORIAN
METHOD:PUBLISH
X-WR-CALNAME:Lodge Epping No 390
X-ORIGINAL-URL:https://masoniclodge.org.au
X-WR-CALDESC:Events for Lodge Epping No 390
BEGIN:VTIMEZONE
TZID:Australia/Sydney
BEGIN:STANDARD
TZOFFSETFROM:+1100
TZOFFSETTO:+1000
TZNAME:AEST
DTSTART:20180331T160000
END:STANDARD
BEGIN:DAYLIGHT
TZOFFSETFROM:+1000
TZOFFSETTO:+1100
TZNAME:AEDT
DTSTART:20181006T160000
END:DAYLIGHT
END:VTIMEZONE
BEGIN:VEVENT
DTSTART;TZID=Australia/Sydney:20180125T120000
DTEND;TZID=Australia/Sydney:20180125T143000
DTSTAMP:20200228T081531
CREATED:20180102T101940Z
LAST-MODIFIED:20180102T113247Z
UID:377-1516881600-1516890600@masoniclodge.org.au
SUMMARY:January Members Lunch
DESCRIPTION:At 12 noon at Dooley’s Silverwater \n
URL:https://masoniclodge.org.au/event/january-members-lunch/
CATEGORIES:Monthly Members, Families and Friends lunch
END:VEVENT
END:VCALENDAR