BEGIN:VCALENDAR
VERSION:2.0
PRODID:-//Lodge Epping No 390 - ECPv5.0.2.1//NONSGML v1.0//EN
CALSCALE:GREGORIAN
METHOD:PUBLISH
X-WR-CALNAME:Lodge Epping No 390
X-ORIGINAL-URL:https://masoniclodge.org.au
X-WR-CALDESC:Events for Lodge Epping No 390
BEGIN:VTIMEZONE
TZID:Australia/Sydney
BEGIN:STANDARD
TZOFFSETFROM:+1100
TZOFFSETTO:+1000
TZNAME:AEST
DTSTART:20190406T160000
END:STANDARD
BEGIN:DAYLIGHT
TZOFFSETFROM:+1000
TZOFFSETTO:+1100
TZNAME:AEDT
DTSTART:20191005T160000
END:DAYLIGHT
END:VTIMEZONE
BEGIN:VEVENT
DTSTART;TZID=Australia/Sydney:20191009T193000
DTEND;TZID=Australia/Sydney:20191009T213000
DTSTAMP:20200228T080734
CREATED:20190826T012607Z
LAST-MODIFIED:20190826T012607Z
UID:441-1570649400-1570656600@masoniclodge.org.au
SUMMARY:Rehearsal
DESCRIPTION:
URL:https://masoniclodge.org.au/event/rehearsal-3/
LOCATION:Ryde Masonic Centre\, 142 Blaxland Rd\,\, Ryde\, NSW\, 2112\, Australia
CATEGORIES:Rehearsal
END:VEVENT
END:VCALENDAR